BEGIN:VCALENDAR
VERSION:2.0
X-WR-TIMEZONE:Europe/Paris
PRODID:-//Audencia//NONSGML v1.0//EN
CALSCALE:GREGORIAN
BEGIN:VEVENT
SUMMARY:Geneva Afterwork - le premier de 2022 : rdv au Calbar !
DTSTART:20220223T190000
DTEND:20220223T230000
UID:295
DTSTAMP:20260425T205844
LOCATION:Rue de l'Arquebuse 10, 1204 Genève
DESCRIPTION:Cher.e.s Audencia Alumin et etudiant.e.s de passage dans la région.\nNous vous proposons de se réunir le mercredi 23 février à partir de 19h au Calbar accompagnés d'excellentes créations de cocktails.\n\nPour info : soirée spécial du mercredi soir les personnes qui passent la soirée en calbar auront 20% de réduction sur toutes ses consos. Si c'est toute la table : 30%\nEt pour les frileux qui n'ont pas envie de traverser la ville en Calbar, c'est ok pour eux si on se change sur place !\n\nInscriptions possibles aussi par WhatApp auprès de Melina : +33 6 66 83 03 71\n 
BEGIN:VALARM
ACTION:DISPLAY
TRIGGER:-PT60M
DESCRIPTION:Geneva Afterwork - le premier de 2022 : rdv au Calbar !
END:VALARM
END:VEVENT
END:VCALENDAR