BEGIN:VCALENDAR
VERSION:2.0
X-WR-TIMEZONE:Europe/Paris
PRODID:-//Audencia//NONSGML v1.0//EN
CALSCALE:GREGORIAN
BEGIN:VEVENT
SUMMARY:Lancement du Club des Juristes - Afterwork #1 - Paris
DTSTART:20211207T200000
DTEND:20260425T205955
UID:292
DTSTAMP:20260425T205955
LOCATION:8 rue Etienne Marcel, 75002 Paris
DESCRIPTION:Bonjour à tous,\n\nC’est avec un peu de retard mais un grand plaisir que nous lançons enfin officellement le Club des Juristes d'Audencia Alumni, avec un premier afterwork en présentiel !  \nEt pour fêter cet évènement - même si ce n'est pas OB - Audencia offrira 2 consommations par personne ;)\n\nRetrouvons nous mardi 7 décembre à partir de 20h00 à l'Engrenage (8 rue Etienne Marcel).\n\nN'hésitez pas à en parlez autour de vous.\n\nOn espère vous voir nombreux !\n\nA très vite,\n\nSamuel Sebban\nAmbassadeur du Club des Juristes\nssebban@audencia.com\n\n 
BEGIN:VALARM
ACTION:DISPLAY
TRIGGER:-PT60M
DESCRIPTION:Lancement du Club des Juristes - Afterwork #1 - Paris
END:VALARM
END:VEVENT
END:VCALENDAR