BEGIN:VCALENDAR
VERSION:2.0
X-WR-TIMEZONE:Europe/Paris
PRODID:-//Audencia//NONSGML v1.0//EN
CALSCALE:GREGORIAN
BEGIN:VEVENT
SUMMARY:Afterwork Club Audencia Transitions à Nantes
DTSTART:20211208T190000
DTEND:20211208T230000
UID:291
DTSTAMP:20260425T205820
LOCATION:Bar le Wattignies - 13 Bd des Martyrs Nantais de la Résistance, 44200 Nantes
DESCRIPTION:Et si on se retrouvait une dernière fois avant les fêtes ? ??\n\nL'occasion est belle en cette journée du climat !\n\n \n\nC'est l'opportunité \n\n- de rencontrer des personnes inspirantes qui s'engagent dans leur quotidien\n\n- d'évoquer tes envies d'engagement, de transition pro\n\n- de te ré-énergiser\n\n- de découvrir les projets que le Club Audencia Transitions mène\n\n- et tout simplement de passer un bon moment autour de ?.\n\n \n\nOn se donne rdv à Nantes au bar le Wattignies à partir de 19h !\n\nA très vite !
BEGIN:VALARM
ACTION:DISPLAY
TRIGGER:-PT60M
DESCRIPTION:Afterwork Club Audencia Transitions à Nantes
END:VALARM
END:VEVENT
END:VCALENDAR