BEGIN:VCALENDAR
VERSION:2.0
X-WR-TIMEZONE:Europe/Paris
PRODID:-//Audencia//NONSGML v1.0//EN
CALSCALE:GREGORIAN
BEGIN:VEVENT
SUMMARY:Soirée Réseau Grandes Ecoles Mtp-Occ
DTSTART:20211214T183000
DTEND:20211214T220000
UID:290
DTSTAMP:20260425T205728
LOCATION:Domaine Saint-Clément, 2 Dom. de Saint-Clément, Saint-Clément-de-Rivière
DESCRIPTION:Chers Diplômés, acteurs économiques du tissu Montpelliérain et de sa région,\n\n\n \n\nNous avons le plaisir de vous inviter au prochain évènement inter-Grandes Écoles, placé sous le signe de l’œnologie et du terroir, le mardi 14 décembre au Domaine Saint-Clément, 2 Dom. de Saint-Clément, Saint-Clément-de-Rivière.\n\n\n \n\nHenri Bernabé (ESCP) nous fait l'honneur de nous inviter au sein du domaine pour la tenue de cette prochaine édition.\n\n\n \n\nHenri a passé la totalité de sa vie professionnelle à parcourir le monde pour y produire et vendre ses plants de vigne ou produire ses vins. Il a pu, de ce fait, se rendre compte de la très grande diversité de terroirs, de cépages et de techniques permettant de produire autant de vins fabuleux.\n\nA l'orée de la retraite, il n'avait qu'une idée en tête : celle de prolonger sa passion pour la vigne et le vin.\n\nSa famille était propriétaire de deux très beaux domaines aux portes de Montpellier, le Domaine de Saint Clément, jadis un des plus gros producteurs de vins de la région et le Mas de Fournel, propriété voisine. Ces deux domaines avaient abandonné leur activité viti-vinicole suite aux gelées de 1956. Ces deux propriétés ont des terroirs exceptionnels qu'Henri et sa femme Calista, se sont attachés à faire revivre. La famille s'est également engagée sur une culture avec très peu d'intrants, même si cela a un impact négatif sur la productivité, afin de s'inscrire dans une démarche de protection de la biodiversité avec le programme biodiveau.\n\n\n \n\nDans la lignée de nos précédents évènements, l’objectif de cette rencontre est que chacun puisse élargir son réseau professionnel en rencontrant des diplômés faisant partie de l’écosystème régional.\n\n\n \n\n\n \n\nDéroulé de la soirée :\n\n18h30\n\nAccueil des participants\n\n18h45 – 19h30\n\nDépart par petits groupes pour la visite du chai, suivie d’une dégustation\n\n19h30 – 22h\n\nApéritif dînatoire\n\n \n\n \n\nNombre de places limité. Tarif/pers : 14€\n\nClôture des inscriptions la veille\n\nEn vous inscrivant, vous acceptez que vos coordonnés et fonction soient communiqués aux autres participants, ceci afin de faciliter les rencontres. Cette diffusion aura lieu le matin de l'évènement.\n\nEcoles présentes : Audencia, Edhec, Emlyon, Escp-Europe, Essec, Gem, Hec, Icn, Insead, Kedge, Mbs, Neoma, Rbs, Sciences-Po Paris, Skema, Tbs\n\nPour vous inscrire, cliquez ICI\n\n \n\nInformations pratiques :\n\n\n	\n	Grand parking sur place\n	\n	\n	Respect des consignes sanitaires\n	\n	\n	Remboursement en cas d’annulation de l’évènement\n	\n
BEGIN:VALARM
ACTION:DISPLAY
TRIGGER:-PT60M
DESCRIPTION:Soirée Réseau Grandes Ecoles Mtp-Occ
END:VALARM
END:VEVENT
END:VCALENDAR