BEGIN:VCALENDAR
VERSION:2.0
X-WR-TIMEZONE:Europe/Paris
PRODID:-//Audencia//NONSGML v1.0//EN
CALSCALE:GREGORIAN
BEGIN:VEVENT
SUMMARY:Chapter Lyon - diner avec le Directeur d'Audencia Grande Ecole
DTSTART:20170522T200000
DTEND:20170522T230000
UID:29
DTSTAMP:20260425T205704
LOCATION:Brasserie l'est - Paul Bocuse Menu à 26€, paiement sur place
DESCRIPTION:A l'occasion de la venue sur Lyon de Nicolas Arnaud, nouvellement nommé directeur d'Audencia Grande Ecole, nous organisons un diner posé à la Brasserie l'Est - Paul Bocuse (menu à 26€, paiement sur place)
BEGIN:VALARM
ACTION:DISPLAY
TRIGGER:-PT60M
DESCRIPTION:Chapter Lyon - diner avec le Directeur d'Audencia Grande Ecole
END:VALARM
END:VEVENT
END:VCALENDAR