BEGIN:VCALENDAR
VERSION:2.0
X-WR-TIMEZONE:Europe/Paris
PRODID:-//Audencia//NONSGML v1.0//EN
CALSCALE:GREGORIAN
BEGIN:VEVENT
SUMMARY:Réu d'informations Club Audencia Transitions - Rejoignez nous !
DTSTART:20211110T190000
DTEND:20211110T200000
UID:288
DTSTAMP:20260425T205736
LOCATION:
DESCRIPTION:Réunion d'informations du club Audencia Transitions\n\nVous vous demandez : \n\n- Quelle est la mission du club\n\n- Quelles sont nos actions depuis 1 an ?\n\n- Quelles sont nos projets pour l'année à venir ?\n\n- Comment contribuer ?\n\nOu vous êtes juste curieux.se ?\n\n \n\nVous êtes toutes et tous les bienvenus à cette réu d'info animée par le bureau du Club.\n\nRejoignez nous sur ce lien mercredi 10/11 à 19h\n\nA très vite ?
BEGIN:VALARM
ACTION:DISPLAY
TRIGGER:-PT60M
DESCRIPTION:Réu d'informations Club Audencia Transitions - Rejoignez nous !
END:VALARM
END:VEVENT
END:VCALENDAR