BEGIN:VCALENDAR
VERSION:2.0
X-WR-TIMEZONE:Europe/Paris
PRODID:-//Audencia//NONSGML v1.0//EN
CALSCALE:GREGORIAN
BEGIN:VEVENT
SUMMARY:Catch up event Luxembourg #2
DTSTART:20211110T183000
DTEND:20211110T220000
UID:287
DTSTAMP:20260425T205850
LOCATION:1 Rue de la Reine, 2418 Luxembourg
DESCRIPTION:Dear all,\n\nI hope everyone is well and safe. We could experience the last months a back-to-normal situation (or almost). Therefore, before the end of the year, I would happily invite you to mingle around a drink in Wëllem (1 Rue de la Reine, 2418 Luxembourg)10th of November as of 6.30PM.\nAs it has been done before, there is no specific theme it is just to have the opportunity of gathering and enjoy a good moment.\n\nAs always, I hope to see many of you!\n\nPS: If you need to contact me, better do it from LinkedIn.
BEGIN:VALARM
ACTION:DISPLAY
TRIGGER:-PT60M
DESCRIPTION:Catch up event Luxembourg #2
END:VALARM
END:VEVENT
END:VCALENDAR