BEGIN:VCALENDAR
VERSION:2.0
X-WR-TIMEZONE:Europe/Paris
PRODID:-//Audencia//NONSGML v1.0//EN
CALSCALE:GREGORIAN
BEGIN:VEVENT
SUMMARY:Afterwork de rentrée pour le Club Consulting
DTSTART:20211102T193000
DTEND:20211102T230000
UID:286
DTSTAMP:20260425T205705
LOCATION:Le Cardinal - 1 Bd des Italiens, 75002 Paris
DESCRIPTION:? Premier #Afterwork de l'année !\n\n? First #Afterwork of the year : English speaking people welcome !\n\nLa rentrée étant désormais bien entamée, c'est le moment idéal pour commencer à se réunir !\n\n? Venez partager un moment convivial avec les #Alumni ou étudiants #Audencia évoluant dans le #consulting.\n\n? L'occasion d'échanger pendant toute une soirée et de réseauter dans la bonne humeur.\n\n\nJ'espère vous y retrouver nombreux ! A très vite !
BEGIN:VALARM
ACTION:DISPLAY
TRIGGER:-PT60M
DESCRIPTION:Afterwork de rentrée pour le Club Consulting
END:VALARM
END:VEVENT
END:VCALENDAR