BEGIN:VCALENDAR
VERSION:2.0
X-WR-TIMEZONE:Europe/Paris
PRODID:-//Audencia//NONSGML v1.0//EN
CALSCALE:GREGORIAN
BEGIN:VEVENT
SUMMARY:Afterwork avec Uwe Supper
DTSTART:20211028T193000
DTEND:20211028T213000
UID:285
DTSTAMP:20260425T205719
LOCATION:Zum Franziskaner, Residenzstraße 9, 80333 München
DESCRIPTION:Bonjour à tous,\n\npour la venue d'Uwe Supper nous nous retrouverons dans la brasserie "Zum Franziskaner" en face de l'Opéra et proche de Marienplatz.\n\nUne table et réservée pour 19h30 au nom d'AUDENCIA.\n\nMerci de vous inscrire pour que je puisse adapter le nombre de personnes dans la réservation.\n\nA bientôt,\nAmandine
BEGIN:VALARM
ACTION:DISPLAY
TRIGGER:-PT60M
DESCRIPTION:Afterwork avec Uwe Supper
END:VALARM
END:VEVENT
END:VCALENDAR