BEGIN:VCALENDAR
VERSION:2.0
X-WR-TIMEZONE:Europe/Paris
PRODID:-//Audencia//NONSGML v1.0//EN
CALSCALE:GREGORIAN
BEGIN:VEVENT
SUMMARY:Geneva Afterwork - Fondue au Jardin Anglais
DTSTART:20211125T200000
DTEND:20211125T230000
UID:284
DTSTAMP:20260425T205859
LOCATION:Parc des Bastions de Geneve
DESCRIPTION:Rendez-vous au JARDIN ANGLAIS (attention changement du lieu) pour l'incontournable FONDUE où une table pour 15 personnes a été réservée par Anne Lise, merci de confirmer votre présence par message à Anne Lise (+41 79 389 07 01) ou Melina (+33 6 66 83 03 71)\n\nPass sanitaire obligatoire ou test négatif\nhttps://noel-au-jardin.ch/\n\n 
BEGIN:VALARM
ACTION:DISPLAY
TRIGGER:-PT60M
DESCRIPTION:Geneva Afterwork - Fondue au Jardin Anglais
END:VALARM
END:VEVENT
END:VCALENDAR