BEGIN:VCALENDAR
VERSION:2.0
X-WR-TIMEZONE:Europe/Paris
PRODID:-//Audencia//NONSGML v1.0//EN
CALSCALE:GREGORIAN
BEGIN:VEVENT
SUMMARY:Afterwork Club Audencia Transitions Paris
DTSTART:20211012T183000
DTEND:20211012T230000
UID:282
DTSTAMP:20260425T205704
LOCATION:La Recyclerie, Paris
DESCRIPTION:Viens boire un verre à la rencontre du Club Audencia Transitions ?\n\n \n\n"Oeuvrer pour rendre la société plus inclusive et durable, ça te parle ?\nC'est ton envie ? Ton quotidien ?\n\nTu t'engages dans ta vie pro et tu aimerais bien trouver d'autres personnes à qui en parler ?\nTu aimerais bien (re)trouver du sens dans ton taf et tu te poses tout un tas de questions ?\n\nTu es déjà investi.e dans l'ESS et tu aimerais connaitre celles et ceux d'Audencia qui sont également engagés dans cet écosystème ?\n\nAutant de raisons de venir nous rejoindre le 12 octobre autour d'un verre !\n\n \n\nAu programme : \n\n18h30 - 20h : Conférence Inspirante "Ceux Qui Font Demain pour la planète !" Inscriptions ici : https://www.cqfd-pourlaplanete.fr/\n\n20h-23h : Verre !!!\n\n \n\nRetrouvez-nous à Paris à la Recyclerie à partir de 18h.30\n\nSi vous ne nous trouvez pas sur place, n'hésitez pas à contacter Florence Leblond au 06.60.96.07.41 ou Nicolas Vergne au 07.87.86.50.89
BEGIN:VALARM
ACTION:DISPLAY
TRIGGER:-PT60M
DESCRIPTION:Afterwork Club Audencia Transitions Paris
END:VALARM
END:VEVENT
END:VCALENDAR