BEGIN:VCALENDAR
VERSION:2.0
X-WR-TIMEZONE:Europe/Paris
PRODID:-//Audencia//NONSGML v1.0//EN
CALSCALE:GREGORIAN
BEGIN:VEVENT
SUMMARY:Afterwork Audencia Transitions à Nantes
DTSTART:20211011T190000
DTEND:20211011T230000
UID:281
DTSTAMP:20260425T223839
LOCATION:Levrette Café 30 quai Fernand Crouan Parc des chantiers - Pont 1 du Nantilus, 44200 Nantes,
DESCRIPTION:Viens boire un verre à la rencontre du Club Audencia Transitions ?\n\n \n\n"Oeuvrer pour rendre la société plus inclusive et durable, ça te parle ?\nC'est ton envie ? Ton quotidien ?\n\nTu t'engages dans ta vie pro et tu aimerais bien trouver d'autres personnes à qui en parler ?\nTu aimerais bien (re)trouver du sens dans ton taf et tu te poses tout un tas de questions ?\n\nTu es déjà investi.e dans l'ESS et tu aimerais connaitre celles et ceux d'Audencia qui sont également engagés dans cet écosystème ?\n\nAutant de raisons de venir nous rejoindre le 11 octobre autour d'un verre !\n\n \n\nRetrouvez-nous à Nantes à partir de 19h.\n\nOn vous en dit plus sur le lieu très vite !
BEGIN:VALARM
ACTION:DISPLAY
TRIGGER:-PT60M
DESCRIPTION:Afterwork Audencia Transitions à Nantes
END:VALARM
END:VEVENT
END:VCALENDAR