BEGIN:VCALENDAR
VERSION:2.0
X-WR-TIMEZONE:Europe/Paris
PRODID:-//Audencia//NONSGML v1.0//EN
CALSCALE:GREGORIAN
BEGIN:VEVENT
SUMMARY:Diner à Rennes
DTSTART:20211007T200000
DTEND:20211007T230000
UID:280
DTSTAMP:20260425T205705
LOCATION:Buvette du Pont à Betton
DESCRIPTION:Je vous propose de nous retrouver le jeudi 7 octobre à 20h pour une soirée du Chapter Bretagne d'Audencia. Nous nous donnons RDV à la "Buvette du Pont" à Betton pour un apéro dinatoire. 
BEGIN:VALARM
ACTION:DISPLAY
TRIGGER:-PT60M
DESCRIPTION:Diner à Rennes
END:VALARM
END:VEVENT
END:VCALENDAR