BEGIN:VCALENDAR
VERSION:2.0
X-WR-TIMEZONE:Europe/Paris
PRODID:-//Audencia//NONSGML v1.0//EN
CALSCALE:GREGORIAN
BEGIN:VEVENT
SUMMARY:Soirée Réseau Grandes Ecoles Mtp-Occ
DTSTART:20211012T183000
DTEND:20211012T230000
UID:279
DTSTAMP:20260425T205955
LOCATION:6 Boulevard Vieussens, Montpellier, France
DESCRIPTION:Chers Diplômés, acteurs économiques du tissu Montpelliérain et de sa région,\n \nNous avons le plaisir de vous inviter au 2nd évènement réunissant les diplômés de Montpellier et de sa région des principales Grandes Ecoles de commerce, de l’Insead et de Sciences-Po Paris.\n\nAprès une première édition sous forme d’un speed meeting, ouvert par une conférence de Florian Mantione, et ayant rassemblé une centaine de participants, nous vous donnons cette fois-ci rendez-vous pour évoquer les enjeux de l’économie locale. A cette occasion, nous aborderons la thématique :\n« La dynamisation de l’économie et de la vie locale »\n\nCette réflexion sera menée en partenariat avec l’agence Synerg-In qui accompagne les démarches fortes avec une approche nouvelle de l’innovation des services.\nLe fruit de nos échanges fera l’objet d’une synthèse aux élus de la métropole afin d’apporter la contribution des diplômés des grandes écoles à ces enjeux.\n \nCet évènement se déroulera le mardi 12 octobre à 18h30 dans les salons du traiteur Parguel, 6 Bd Vieussens, Montpellier.\n \nDans la lignée de notre 1er évènement, l’objectif de cette 2e rencontre est également que chacun puisse élargir son réseau professionnel, en rencontrant des diplômés faisant partie de l’écosystème régional afin de créer une nouvelle dynamique en Occitanie Est.\n \n \nDéroulé de la soirée :\n18h30 – 19h00\nAccueil des participants\n19h00 – 19h45\nDéroulement de l’atelier\n19h45 – 22h30\nApéritif dinatoire\n \nNombre de places limité. Tarif/pers : 22€\nEcoles présentes : Audencia, Edhec, Emlyon, Escp-Europe, Essec, Gem, Hec, Insead, Kedge, Mbs, Neoma, Rbs, Sciences-Po Paris, Skema, Tbs\nPour vous inscrire, cliquez ICI\n \nInformations pratiques :\n\n	Acces tram et parking (places limitées)\n	Respect des consignes sanitaires\n	Remboursement en cas d’annulation de l’évènement\n
BEGIN:VALARM
ACTION:DISPLAY
TRIGGER:-PT60M
DESCRIPTION:Soirée Réseau Grandes Ecoles Mtp-Occ
END:VALARM
END:VEVENT
END:VCALENDAR