BEGIN:VCALENDAR
VERSION:2.0
X-WR-TIMEZONE:Europe/Paris
PRODID:-//Audencia//NONSGML v1.0//EN
CALSCALE:GREGORIAN
BEGIN:VEVENT
SUMMARY:Afterwork Audencia Alumni Barcelona
DTSTART:20210923T190000
DTEND:20210923T220000
UID:278
DTSTAMP:20260425T210005
LOCATION:Pokawai, Carrer del Bruc, 80, 08009 Barcelona
DESCRIPTION:¡Hola a todos!\n\nReunamos para un pequeño afterwork entre alumni de Audencia desde las 19:30 en Pokawai, Carrer del Bruc, 80, 08009 Barcelona.\n¡Ven a conocer a otros alumnos que están aquí!\n\nLouis & Tristan
BEGIN:VALARM
ACTION:DISPLAY
TRIGGER:-PT60M
DESCRIPTION:Afterwork Audencia Alumni Barcelona
END:VALARM
END:VEVENT
END:VCALENDAR