BEGIN:VCALENDAR
VERSION:2.0
X-WR-TIMEZONE:Europe/Paris
PRODID:-//Audencia//NONSGML v1.0//EN
CALSCALE:GREGORIAN
BEGIN:VEVENT
SUMMARY:Afterwork en terrasse - 10 personnes max
DTSTART:20210706T190000
DTEND:20210706T220000
UID:277
DTSTAMP:20260425T205907
LOCATION:https://www.bier-weingarten.de/
DESCRIPTION:Bonjour à tous,\nje vous propose de nous retrouver pour un afterwork informel et tenter une soirée en extérieur au "Wein- und Biergarten" sur la Praterinsel.\nhttps://www.bier-weingarten.de/\n\nNous avons le droit de nous retrouver à 10 personnes max sans compter les vaccinés et les personnes ayant guéri du COVID dans les 6 derniers mois.\n\nMerci de vous inscrire ici et de me communiquer si vous êtes dans l'un de ces cas, afin que j'actualise la réservation si nécessaire.\n\nA bientôt,\nAmandine\n 
BEGIN:VALARM
ACTION:DISPLAY
TRIGGER:-PT60M
DESCRIPTION:Afterwork en terrasse - 10 personnes max
END:VALARM
END:VEVENT
END:VCALENDAR