BEGIN:VCALENDAR
VERSION:2.0
X-WR-TIMEZONE:Europe/Paris
PRODID:-//Audencia//NONSGML v1.0//EN
CALSCALE:GREGORIAN
BEGIN:VEVENT
SUMMARY:Afterwork Audencia Alumni
DTSTART:20210707T190000
DTEND:20210707T210000
UID:276
DTSTAMP:20260425T205814
LOCATION:Pokawai, Carrer del Bruc 80, 08009 Barcelona
DESCRIPTION:¡Hola a todos!\n\nReunamos para un pequeño afterwork entre alumni de Audencia desde las 19:00 a Pokawai (Bruc 80), casi Bruc con Consell de Cent.\n¡Ven a conocer a otros alumnos que están aquí!\n\nTristan & Louis
BEGIN:VALARM
ACTION:DISPLAY
TRIGGER:-PT60M
DESCRIPTION:Afterwork Audencia Alumni
END:VALARM
END:VEVENT
END:VCALENDAR