BEGIN:VCALENDAR
VERSION:2.0
X-WR-TIMEZONE:Europe/Paris
PRODID:-//Audencia//NONSGML v1.0//EN
CALSCALE:GREGORIAN
BEGIN:VEVENT
SUMMARY:Apéro virtuel
DTSTART:20210430T193000
DTEND:20210430T203000
UID:275
DTSTAMP:20260425T210054
LOCATION:
DESCRIPTION:Bonjour à tous,\nrejoignons-nous sur la Plateforme Wonder.me pour un afterwork "apéro virtuel" spécial Munich, avec Uwe Supper.\n\nVoici le lien, pas besoin d'inscription pour se connecter vendredi https://www.wonder.me/r?id=8a5e6d90-50e8-480f-a5b0-5e8503939a81\n\nA bientôt,\nAmandine
BEGIN:VALARM
ACTION:DISPLAY
TRIGGER:-PT60M
DESCRIPTION:Apéro virtuel
END:VALARM
END:VEVENT
END:VCALENDAR