BEGIN:VCALENDAR
VERSION:2.0
X-WR-TIMEZONE:Europe/Paris
PRODID:-//Audencia//NONSGML v1.0//EN
CALSCALE:GREGORIAN
BEGIN:VEVENT
SUMMARY:Discover Alter Eco!
DTSTART:20210408T120000
DTEND:20210408T130000
UID:274
DTSTAMP:20260425T205820
LOCATION:Online with the SanFrancisco chapter!
DESCRIPTION:Join us to discover Alter Eco and its chocolates! From sourcing, production to sustainable programs, enjoy a dedicated presentation and eveything you want to know about this adventure!\nFeel free to have some Alter Eco chocolate ready to taste during the presentation!\nWhen: April 8th, 12PM PST\nLink to join:\n\nmeet.google.com/hgj-pcxr-pxo\n\nA bientot!\n\n\n 
BEGIN:VALARM
ACTION:DISPLAY
TRIGGER:-PT60M
DESCRIPTION:Discover Alter Eco!
END:VALARM
END:VEVENT
END:VCALENDAR