BEGIN:VCALENDAR
VERSION:2.0
X-WR-TIMEZONE:Europe/Paris
PRODID:-//Audencia//NONSGML v1.0//EN
CALSCALE:GREGORIAN
BEGIN:VEVENT
SUMMARY:Club Assurance - Impact COVID sur l'assurance
DTSTART:20201104T184500
DTEND:20201104T200000
UID:272
DTSTAMP:20260425T205857
LOCATION:
DESCRIPTION:\nChers Alumni,\n\nNous vous invitons à venir échanger ce mercredi 4 novembre à 18h45 précises sur le thème (d’actualité) « l’impact COVID sur l’assurance ». Cet évènement se déroulera en distanciel, contexte sanitaire oblige !\n\n1) Connectez-vous via ce lien Microsoft Teams : https://cutt.ly/SgPvahr\n[Pour une première connexion à Microsoft Teams, nous vous conseillons de vous connecter quelques minutes avant].\nPour plus de convivialité, n’hésitez pas à mettre votre caméra si possible (au moins pour parler ?).\n\n2) Installez-vous ensuite confortablement avec votre boisson préférée !   \n\n\nAu programme :\n\n\n	Partage d’expérience sur l’impact du COVID19 sur l’assurance – Virginie, Gaëlle et Oriane\n	\n		L’idée sera de partager ensemble la manière dont nous avons dû nous adapter à la crise en tant que secteur\n	\n	\n	Echange informel – Nous aimerions vous demander de vous présenter en 1min max en choisissant une photo à projeter\n	\n		Photo personnelle ou professionnelle ; de votre famille (votre chien ?) ou votre dernier trophée ; de vos dernières vacances pré-COVID ou votre nouveau projet… Tout est permis pour partager un peu de vous !\n	\n	\n\n\n \nNous vous attendons nombreux et sommes ravis d’échanger à nouveau avec vous !\nOriane, Virginie et Gaëlle\n\n\n \n________________________________________________________________________________\n\nPour rejoindre cette soirée virtuelle,\nconnectez-vous à la réunion Microsoft Teams en cliquant ici.\n\nEn savoir plus sur Teams | Options de réunion\n\n________________________________________________________________________________\n\n Contact Audencia Alumni :\n audenciaalumni@audencia.com
BEGIN:VALARM
ACTION:DISPLAY
TRIGGER:-PT60M
DESCRIPTION:Club Assurance - Impact COVID sur l'assurance
END:VALARM
END:VEVENT
END:VCALENDAR