BEGIN:VCALENDAR
VERSION:2.0
X-WR-TIMEZONE:Europe/Paris
PRODID:-//Audencia//NONSGML v1.0//EN
CALSCALE:GREGORIAN
BEGIN:VEVENT
SUMMARY:Audencia Alumni Networking Drinks
DTSTART:20200428T183000
DTEND:20200428T210000
UID:269
DTSTAMP:20260425T205727
LOCATION:London
DESCRIPTION:Come and join us for an evening of networking with Audencia alumni and students from the Specialized Master in Finance, Risk and Control (FRC).\nSave the date, venue to be confirmed soon.\nAmicalement vôtre,\nTristan
BEGIN:VALARM
ACTION:DISPLAY
TRIGGER:-PT60M
DESCRIPTION:Audencia Alumni Networking Drinks
END:VALARM
END:VEVENT
END:VCALENDAR