BEGIN:VCALENDAR
VERSION:2.0
X-WR-TIMEZONE:Europe/Paris
PRODID:-//Audencia//NONSGML v1.0//EN
CALSCALE:GREGORIAN
BEGIN:VEVENT
SUMMARY:Audencia Alumni Around the World in Zürich, Switzerland
DTSTART:20200312T190000
DTEND:20200312T233000
UID:266
DTSTAMP:20260425T205855
LOCATION:Gainsbourg  Kreuzstrasse 26, 8008 Zürich
DESCRIPTION:Audencia Around the World is back and I invite you to join the event in Zürich, whether you are an alumni or a student in the city.\n\nLet's meet on March 12th in Gainsbourg !\n\nI hope to see you there !\n\nBest,\nAntoine \n \n\nTo discover which cities are hosting an Around the World event, click on the image below\n \n
BEGIN:VALARM
ACTION:DISPLAY
TRIGGER:-PT60M
DESCRIPTION:Audencia Alumni Around the World in Zürich, Switzerland
END:VALARM
END:VEVENT
END:VCALENDAR