BEGIN:VCALENDAR
VERSION:2.0
X-WR-TIMEZONE:Europe/Paris
PRODID:-//Audencia//NONSGML v1.0//EN
CALSCALE:GREGORIAN
BEGIN:VEVENT
SUMMARY:Afterwork - Soleil Rouge - Jeudi 6 Février
DTSTART:20200206T183000
DTEND:20200206T230000
UID:264
DTSTAMP:20260425T205723
LOCATION:Boulevard Helvétique, 32 - 1207 Genève
DESCRIPTION:Nous vous proposons un Afterwork le jeudi 6 février au Soleil Rouge.\nAu plaisir de vous y retrouver!\nMélanie & Sandrine
BEGIN:VALARM
ACTION:DISPLAY
TRIGGER:-PT60M
DESCRIPTION:Afterwork - Soleil Rouge - Jeudi 6 Février
END:VALARM
END:VEVENT
END:VCALENDAR