BEGIN:VCALENDAR
VERSION:2.0
X-WR-TIMEZONE:Europe/Paris
PRODID:-//Audencia//NONSGML v1.0//EN
CALSCALE:GREGORIAN
BEGIN:VEVENT
SUMMARY:Audencia Alumni Dublin x SMED Learning Expedition Afterwork
DTSTART:20200129T183000
DTEND:20200129T230000
UID:263
DTSTAMP:20260425T223652
LOCATION:The Odeon, Dublin
DESCRIPTION:Hello everyone and happy new year !\n\nI hope you all enjoyed a well deserved break and are fully recharged for 2020 !\n\nI am happy to confirm that, per previous discussion, the Audencia Learning Expedition 2020 (a group of students in Digital Marketing) will be coming to Dublin on the last week of January. In order for them to enjoy our beautiful city to its fullest, we will have a Audencia Alumni x LEX 2020 afterwork on Wednesday, January 29th.\n\nIn order for me to find a good location, could you please fill in this form ? Absolutely no obligations as usual, and if you'd like to be taken off this list, please let me know so (no justification needed).\n\nThank you very much and looking forward to seeing you all,\n\nCheers,\nBrice
BEGIN:VALARM
ACTION:DISPLAY
TRIGGER:-PT60M
DESCRIPTION:Audencia Alumni Dublin x SMED Learning Expedition Afterwork
END:VALARM
END:VEVENT
END:VCALENDAR