BEGIN:VCALENDAR
VERSION:2.0
X-WR-TIMEZONE:Europe/Paris
PRODID:-//Audencia//NONSGML v1.0//EN
CALSCALE:GREGORIAN
BEGIN:VEVENT
SUMMARY:Soirée Réseau Grandes Ecoles Mtp-Occ
DTSTART:20200310T183000
DTEND:20200310T233000
UID:261
DTSTAMP:20260425T205704
LOCATION:6 Boulevard Vieussens, Montpellier, France
DESCRIPTION:Cher(e)s Diplômé(e)s, acteurs économiques du tissu Montpelliérain et de sa région,\n \n\nNous avons le plaisir de vous inviter au 1er évènement réunissant les diplômé(e)s de Montpellier et de sa région des plus grandes Business School de France, de l’Insead et de Sci Po.\n\nCet événement, ouvert par une conférence suivie d’un speed meeting, se déroulera le mardi 10 mars à 18h30 dans les salons du traiteur Parguel, 6 Bd Vieussens, Montpellier.\n\nA cette occasion, nous aurons le plaisir d’accueillir Florian MANTIONE qui nous fera l’honneur d’intervenir sur la thématique :\n« L’innovation managériale appliquée aux ressources humaines »\n\nBiographie : Florian MANTIONE, est diplômé de TBS, de l’IEP Toulouse et licencié en Sciences-Eco de Paris I. Créateur en 1976 du Florian Mantione Institut, réseau international de conseils en RH, il a rédigé 27 livres sur le management, le recrutement, les RH…"\n\nL’objectif de cette 1ère rencontre est que chacun puisse élargir son réseau professionnel, en rencontrant des diplômés faisant partie de l’écosystème régional afin de créer une nouvelle dynamique en Occitanie Est. Nous avons pour ambition que cet événement devienne pérenne et se déroule 4 fois par an.\nDéroulé de la soirée :\n18h30 – 19h00\nAccueil des participants\n19h00 – 19h30 (20mn intervention + 10mn questions/réponses)\nIntervention de Florian MANTIONE\n19h30 – 20h30\nSpeed meeting\n20h30\nCocktail apéritif\n \nAttention, le nombre de places est limité. Tarif/pers : 20€\nEcoles présentes : Audencia, Edhec, Em Lyon, Essec, Gem, Hec, Insead, Kedge, Mbs, Neoma, Rbs, Sciences Po, Skema, Tbs\nPour vous inscrire, cliquez ICI\n 
BEGIN:VALARM
ACTION:DISPLAY
TRIGGER:-PT60M
DESCRIPTION:Soirée Réseau Grandes Ecoles Mtp-Occ
END:VALARM
END:VEVENT
END:VCALENDAR