BEGIN:VCALENDAR
VERSION:2.0
X-WR-TIMEZONE:Europe/Paris
PRODID:-//Audencia//NONSGML v1.0//EN
CALSCALE:GREGORIAN
BEGIN:VEVENT
SUMMARY:Afterwork Inter-Ecoles
DTSTART:20200206T183000
DTEND:20200206T233000
UID:260
DTSTAMP:20260425T210011
LOCATION:Puro | Fraumünsterstrasse 25 - 8001 Zürich
DESCRIPTION:Bonsoir à tous,\n\nLe prochain afterwork Inter-Ecoles de l'année 2020 aura lieu le 6 février, une nouvelle fois au Puro. \n\nJ'espère vous y voir nombreux. \n\nDate: jeudi 6 février à partir de 18h30\nLieu: Puro | Fraumünsterstrasse 25 - 8001 Zürich\n \n\nMerci de m'indiquer votre présence par email ou en vous inscrivant sur Audencia Together si vous souhaitez participer ! \n \n\nÀ bientôt, \n\nAntoine
BEGIN:VALARM
ACTION:DISPLAY
TRIGGER:-PT60M
DESCRIPTION:Afterwork Inter-Ecoles
END:VALARM
END:VEVENT
END:VCALENDAR