BEGIN:VCALENDAR
VERSION:2.0
X-WR-TIMEZONE:Europe/Paris
PRODID:-//Audencia//NONSGML v1.0//EN
CALSCALE:GREGORIAN
BEGIN:VEVENT
SUMMARY:Afterwork à l´ouverture du festival Tollwood
DTSTART:20170621T190000
DTEND:20170621T230000
UID:26
DTSTAMP:20260425T205849
LOCATION:Olympiapark Süd, Spiridon-Louis-Ring, 80809 München
DESCRIPTION:A l´occasion de la fête de la musique, je vous invite à partager une soirée estivale, musicale et internationale sur le festival tollwood (https://www.tollwood.de/).\nEn cas de mauvais temps, nous nous rabattrons sur un lieu en intérieur.\n\nVoici les moyens de transport pour y aller: https://www.tollwood.de/besucherinformationen/anfahrt 
BEGIN:VALARM
ACTION:DISPLAY
TRIGGER:-PT60M
DESCRIPTION:Afterwork à l´ouverture du festival Tollwood
END:VALARM
END:VEVENT
END:VCALENDAR