BEGIN:VCALENDAR
VERSION:2.0
X-WR-TIMEZONE:Europe/Paris
PRODID:-//Audencia//NONSGML v1.0//EN
CALSCALE:GREGORIAN
BEGIN:VEVENT
SUMMARY:Lille - Afterwork 11
DTSTART:20200129T180000
DTEND:20200129T220000
UID:259
DTSTAMP:20260425T205716
LOCATION:Atomic Rabbit 5, place Saint Joseph Lille
DESCRIPTION:Bonjour à tous,\nTout d'abord je vous présente à tous mes meilleurs vœux pour cette nouvelle année qui vient de débuter et bienvenue au nouveaux inscrits dans le Chapter Lillois!\n\nLe prochain Afterwork des Alumni de Lille aura lieu le mercredi 29 janvier à l'Atomic Rabbit dés 18h. Superbes planches apéritives et excellents Gin pour les amateurs! \n\nQue vous soyez nouveau/nouvelle sur Lille, que vous ne soyez jamais venu(e) à un évènement du Chapter, que vous ne connaissiez personne, vous êtes le/la bienvenu(e) !!!\n\nLieu: Atomic Rabbit - 5 place Saint Joseph - Lille\nTarif : consommation à régler sur place\nOuvert aux accompagnants : oui\n\nA bientôt !\n\nMargot Soulier - 06.72.48.11.10
BEGIN:VALARM
ACTION:DISPLAY
TRIGGER:-PT60M
DESCRIPTION:Lille - Afterwork 11
END:VALARM
END:VEVENT
END:VCALENDAR