BEGIN:VCALENDAR
VERSION:2.0
X-WR-TIMEZONE:Europe/Paris
PRODID:-//Audencia//NONSGML v1.0//EN
CALSCALE:GREGORIAN
BEGIN:VEVENT
SUMMARY:Visite de l'école hôtelière suivie d'un diner
DTSTART:20200220T183000
DTEND:20200220T220000
UID:258
DTSTAMP:20260425T205727
LOCATION:Le Début - Hotelschool The Hague Amsterdam Jan Evertsenstraat 171, 1056 AB Amsterdam
DESCRIPTION:Visite de l'école hôtelière suivie d'un diner\nEvenement commun Audencia-EDHEC-Neoma
BEGIN:VALARM
ACTION:DISPLAY
TRIGGER:-PT60M
DESCRIPTION:Visite de l'école hôtelière suivie d'un diner
END:VALARM
END:VEVENT
END:VCALENDAR