BEGIN:VCALENDAR
VERSION:2.0
X-WR-TIMEZONE:Europe/Paris
PRODID:-//Audencia//NONSGML v1.0//EN
CALSCALE:GREGORIAN
BEGIN:VEVENT
SUMMARY:Galette des rois 2020 dans la boulangerie Claude&Julien
DTSTART:20200118T143000
DTEND:20200118T163000
UID:257
DTSTAMP:20260425T205946
LOCATION:Boulangerie Claude & Julien, Elsässerstr. 25 (vers Ostbahnhof)
DESCRIPTION:Bonjour à tous,\n\nAudencia nous invite à partager une galette des rois pour fêter la nouvelle année dans la Boulangerie de Claude, près de Ostbahnhof, le samedi 18 janvier.\n\nInscrivez-vous vite pour que nous puissions prévoir les quantités.\n\nMerci de faire passer le mot aux nouveaux arrivants début 2020. Plus on est de fous...\n\nA bientôt,\nAmandine
BEGIN:VALARM
ACTION:DISPLAY
TRIGGER:-PT60M
DESCRIPTION:Galette des rois 2020 dans la boulangerie Claude&Julien
END:VALARM
END:VEVENT
END:VCALENDAR