BEGIN:VCALENDAR
VERSION:2.0
X-WR-TIMEZONE:Europe/Paris
PRODID:-//Audencia//NONSGML v1.0//EN
CALSCALE:GREGORIAN
BEGIN:VEVENT
SUMMARY:Afterwork in Luxembourg #2
DTSTART:20200130T193000
DTEND:20200130T230000
UID:256
DTSTAMP:20260425T205733
LOCATION:Ënnert de Steiler 2 Rue de la Loge 1945 Luxembourg
DESCRIPTION: Hi all,\n\nI am pleased to invite you for the second afterwork of the Luxembourg alumni chapter. This time it will be at Ënnert de Steiler ("Steiler" for the regulars) at 19:30 on Thursday 30 January. It is a great occasion to start back after the Christmas holidays and enjoy a drink. It is also an opportunity for us to discuss about what themes and topics could be interested for our next events (carreer consultant, trends in Luxembourg etc.) and therefore develop our Audencia networking event in Luxembourg.\n\nI hope to see many of you.\n\nThomas\n\n- Venue: Ënnert de Steiler (2 Rue de la Loge, 1945 Luxembourg)\n- Date: Thursday 30 January\n- Time: from 19:30
BEGIN:VALARM
ACTION:DISPLAY
TRIGGER:-PT60M
DESCRIPTION:Afterwork in Luxembourg #2
END:VALARM
END:VEVENT
END:VCALENDAR