BEGIN:VCALENDAR
VERSION:2.0
X-WR-TIMEZONE:Europe/Paris
PRODID:-//Audencia//NONSGML v1.0//EN
CALSCALE:GREGORIAN
BEGIN:VEVENT
SUMMARY:Déjeuner mensuel Inter-Centrale avec les Inter-Alumni Pays de la Loire [Nantes]
DTSTART:20191202T120000
DTEND:20191202T140000
UID:252
DTSTAMP:20260425T205728
LOCATION:Lus'In 8 Rue de la Paix, 44000 Nantes
DESCRIPTION:\n \n\nINSCRIPTIONS exclusivement via ce lien (avant la veille du déjeuner) :\nhttps://docs.google.com/forms/d/e/1FAIpQLScPABESKsZ41jWNwve02jxknV2UedxUAcYA7MwZB1-pMeWAXw/viewform\n\nImportant :\nLes inscriptions via Together ne seront pas prises en compte (malgré le message de confirmation). Vous pouvez cependant signaler votre présence aux Alumni via le site.\n\n\n\nLe déjeuner mensuel Inter Groupe des Ecole Centrale et Supélec de Nantes a lieu en début de chaque mois. Il est organisé par Centrale Nantes Alumni région Bretagne Pays-de-la-Loire et est ouvert aux étudiants et diplômés d'Audencia par l'intermédiaire de l'InterAlumni des Pays de la Loire.\n\nPrincipe :\n\n\n	Le nom du restaurant réservé et l'heure / lieu du rendez-vous seront précisés chaque mois et confirmés aux personnes inscrites.\n	Chacun prend en charge ses frais de repas.\n	Merci de nous prévenir par mail en cas de désistement à francois.hamy@centraliens-nantes.net\n\n\n\n\n\n\n\nLes prochains déjeuners :\n\n\n\n\n\n\n	Lundi 6 janvier 2020\n	lundi 2 février 2020\n	lundi 2 mars 2020\n	lundi 6 avril 2020\n	lundi 4 mai 2020\n	lundi 8 juin 2020\n	lundi 6 juillet 2020\n	lundi 7 septembre 2020\n	lundi 5 octobre 2020\n	lundi 9 novembre 2020\n	lundi 7 décembre 2020\n\n
BEGIN:VALARM
ACTION:DISPLAY
TRIGGER:-PT60M
DESCRIPTION:Déjeuner mensuel Inter-Centrale avec les Inter-Alumni Pays de la Loire [Nantes]
END:VALARM
END:VEVENT
END:VCALENDAR