BEGIN:VCALENDAR
VERSION:2.0
X-WR-TIMEZONE:Europe/Paris
PRODID:-//Audencia//NONSGML v1.0//EN
CALSCALE:GREGORIAN
BEGIN:VEVENT
SUMMARY:Raclette commune Audencia-EDHEC-Neoma
DTSTART:20191211T190000
DTEND:20191211T230000
UID:251
DTSTAMP:20260425T211248
LOCATION:Bistrot des Alpes, Utrechtsedwarsstraat, Amsterdam, Pays-Bas
DESCRIPTION:Raclette, la saison est ouverte! - Raclette season is open\nMercredi 11 décembre\n14 places réservées - tout est déjà complet!
BEGIN:VALARM
ACTION:DISPLAY
TRIGGER:-PT60M
DESCRIPTION:Raclette commune Audencia-EDHEC-Neoma
END:VALARM
END:VEVENT
END:VCALENDAR