BEGIN:VCALENDAR
VERSION:2.0
X-WR-TIMEZONE:Europe/Paris
PRODID:-//Audencia//NONSGML v1.0//EN
CALSCALE:GREGORIAN
BEGIN:VEVENT
SUMMARY:MBA 2019 Graduation Ceremony
DTSTART:20200208T090000
DTEND:20200208T150000
UID:250
DTSTAMP:20260425T210406
LOCATION:La Cité des congrès  5, rue de Valmy 44000 Nantes
DESCRIPTION:Congratulations MBA Class of 2019!\n\nAudencia has sent out an official email asking the class to register for the Graduation Ceremony held on the 8th of February 2020. If you have received the email, please register yourself for the event if you have not already done so.\n\nEvery graduate can be accompanied by a maximum of 2 guests.\n\nThe school will send out the personal invitations for the graduates and the guests shortly via email. Everyone attending the ceremony is supposed to carry the invitations with them either as a print or a digital copy (in the mobile phones). There will be no entry without the invitation.\n\nPlease find the below schedule and venue for the ceremony.\n\nVenue:\nLa Cité des congrès \n5, rue de Valmy\n44000 Nantes\n\n\nProgram Schedule:\n \n\n	9:00am : Doors open at la Cité Congress Center\n	Welcome desks – Cloakroom – Distribution of caps and gowns – Diploma handed to each graduate (To keep until when you are called onto the stage)\n	10:30am : Doors close at la Cité Congress Center\n	You must be seated in the auditorium, in the area reserved for your programme\n	10:45am – 1:30pm : Graduation ceremony for all\n	The ceremony will feature words from faculty and from programme directors as well as surprises!\n	The graduates will be called onto the stage in the following order:\n	– Bachelor and BBA\n	– Audencia SciencesCom\n	– International Masters\n	– International MBA’s\n	– Executive Programmes\n\n\n\n	1:30pm – 3:00pm : Drinks and light buffet with photo activities and other surprises\n\n\nFor guests or students who cannot attend the ceremony, the ceremony can be watched live on https://audencia-graduation.com/en/home/ from 10:45 to 17:15.\n\n \nSee you all there!!!\n\n 
BEGIN:VALARM
ACTION:DISPLAY
TRIGGER:-PT60M
DESCRIPTION:MBA 2019 Graduation Ceremony
END:VALARM
END:VEVENT
END:VCALENDAR