BEGIN:VCALENDAR
VERSION:2.0
X-WR-TIMEZONE:Europe/Paris
PRODID:-//Audencia//NONSGML v1.0//EN
CALSCALE:GREGORIAN
BEGIN:VEVENT
SUMMARY:Afterwork Audencia London N°2
DTSTART:20170601T183000
DTEND:20170601T213000
UID:25
DTSTAMP:20260425T205732
LOCATION:HOOP & TOY 34 Thurloe Place, London SW7 2HQ
DESCRIPTION:Audencia people of London,\n\nLet's meet again for a few drinks on Thursday 01 June in the very much French borough of South Kensington at the Hoop & Toy to exchange on our experience in London and make new friends.\n\nSee you all very soon.\n\nBien à vous,\n\nTristan Pelloux
BEGIN:VALARM
ACTION:DISPLAY
TRIGGER:-PT60M
DESCRIPTION:Afterwork Audencia London N°2
END:VALARM
END:VEVENT
END:VCALENDAR