BEGIN:VCALENDAR
VERSION:2.0
X-WR-TIMEZONE:Europe/Paris
PRODID:-//Audencia//NONSGML v1.0//EN
CALSCALE:GREGORIAN
BEGIN:VEVENT
SUMMARY:Marché de Noel 2019 - Residenz
DTSTART:20191128T180000
DTEND:20191128T210000
UID:249
DTSTAMP:20260425T205705
LOCATION:Munich, devant le marché de Noel à Residenz (U3/4/5/6 Odeonsplatz)
DESCRIPTION:Bonjour à tous,\npour clôre l'année nous nous rejoindrons pour un vin chaud sur le marché de Noel dans la Residenz. \nMerci de vous inscrire pour faciliter les retrouvailles le jour J.\n\nA bientôt,\nAmandine
BEGIN:VALARM
ACTION:DISPLAY
TRIGGER:-PT60M
DESCRIPTION:Marché de Noel 2019 - Residenz
END:VALARM
END:VEVENT
END:VCALENDAR