BEGIN:VCALENDAR
VERSION:2.0
X-WR-TIMEZONE:Europe/Paris
PRODID:-//Audencia//NONSGML v1.0//EN
CALSCALE:GREGORIAN
BEGIN:VEVENT
SUMMARY:Audencia Alumni Christmas Drinks with AMBA
DTSTART:20191211T180000
DTEND:20191211T210000
UID:248
DTSTAMP:20260425T205900
LOCATION:Bar Kick, Shoreditch High Street, London, UK
DESCRIPTION:Audencia Alumni & friends,\n\nBefore heading home (or not) to celebrate Christmas with our respective families (or not)... Let's get together for a few drinks! This event is sponsored by the Association of MBAs (AMBA) and you will learn more about the benefits of the free membership.\nLet's gather at Bar Kick, Shoreditch High Street, from 18:00\n\nAmicalement vôtre,\nTristan Pelloux\n\n\n\n 
BEGIN:VALARM
ACTION:DISPLAY
TRIGGER:-PT60M
DESCRIPTION:Audencia Alumni Christmas Drinks with AMBA
END:VALARM
END:VEVENT
END:VCALENDAR