BEGIN:VCALENDAR
VERSION:2.0
X-WR-TIMEZONE:Europe/Paris
PRODID:-//Audencia//NONSGML v1.0//EN
CALSCALE:GREGORIAN
BEGIN:VEVENT
SUMMARY:[Rennes] Dîner au WOK avec l'aventurier Vincent Grison
DTSTART:20191128T200000
DTEND:20191128T230000
UID:247
DTSTAMP:20260425T205821
LOCATION:301 Rue de Fougères, 35700 Rennes
DESCRIPTION:« Au printemps 2020, seul et sans assistance, Vincent Grison quittera Rennes pour rejoindre le Pôle Nord à vélo, kitesurf et ski. Le tout embarqué à bord de son bateau-traîneau. Un défi sportif qu’il met à disposition des scientifiques travaillant sur le réchauffement climatique. » Le Télégramme\n\n\nBonjour à tous,\n\n"Il y a des lieux, des rencontres, dont on se souvient mollement, vaguement, probablement, confusément... Et il y a ces lieux, ces rencontres qui laissent une empreinte instantanée, soignée, millimétrée. [...] Au fil d'une vie, au fil de nos découvertes, de nos rencontres et de nos expériences, on oublie souvent ce qui a été dit, on oublie aussi parfois ce qui a été fait, mais on n'oublie jamais les émotions qu'une personne, qu'un lieu ou qu'un instant de vie a pu nous procurer." - Charlotte Savreux\n\nJ'ai rencontré Vincent Grison au mois d'avril dernier. J'avais lu une interview de lui dans le magazine de Rennes Métropole et je l'avais contacté pour qu'il intervienne dans ma classe de CM2. Depuis, nous sommes restés en contact et je peux affirmer que Vincent a été une de ces belles rencontres que Charlotte Savreux évoque.\n\nVincent sera avec nous le jeudi 28 novembre au WOK Rue de Fougères. Il nous parlera de son projet fou de rejoindre le Pôle Nord sans assistance motorisée et en solitaire en 2020.\n\nQue vous soyez nouveau/nouvelle sur Rennes, que vous ne soyez jamais venu(e) à un évènement du Chapter Bretagne, que vous ne connaissiez personne, vous êtes le/la bienvenu(e) !!!\n\nLet's Koong Pao Mi, Tom Yum Koong, Tom Khra Kai !\nEmmanuel\n
BEGIN:VALARM
ACTION:DISPLAY
TRIGGER:-PT60M
DESCRIPTION:[Rennes] Dîner au WOK avec l'aventurier Vincent Grison
END:VALARM
END:VEVENT
END:VCALENDAR