BEGIN:VCALENDAR
VERSION:2.0
X-WR-TIMEZONE:Europe/Paris
PRODID:-//Audencia//NONSGML v1.0//EN
CALSCALE:GREGORIAN
BEGIN:VEVENT
SUMMARY:Déjeuner mensuel Inter-Centrale
DTSTART:20191107T121500
DTEND:20191107T140000
UID:246
DTSTAMP:20260425T205819
LOCATION:Restaurant Lus'In 8 Rue de la Paix, 44000 Nantes
DESCRIPTION: Bonjour, François Hamy, de Centrale Nantes Alumni pour convie à un Déjeuner mensuel Inter-Centrale (ouverts à l'Inter-Alumni) à 12 h 15 au Restaurant Lus'In 8 Rue de la Paix, 44000 Nantes\nInscriptions si possible avant le dimanche 6 octobre au soir pour nous permettre de réserver le restaurant, sinon par texto jusqu'à 11 h lundi 7 octobre pour nous permettre de réserver le restaurant.\n\n(Prochaines dates : jeudi 7 novembre, lundi 2 décembre 2019).\n\nFrançois HAMY pour les équipes d'animation\nAnimateur du Groupe Bretagne Pays de la Loire\nCENTRALE NANTES ALUMNI Share The Present\n06 16 33 47 55\nfrancois_hamy@hotmail.com
BEGIN:VALARM
ACTION:DISPLAY
TRIGGER:-PT60M
DESCRIPTION:Déjeuner mensuel Inter-Centrale
END:VALARM
END:VEVENT
END:VCALENDAR