BEGIN:VCALENDAR
VERSION:2.0
X-WR-TIMEZONE:Europe/Paris
PRODID:-//Audencia//NONSGML v1.0//EN
CALSCALE:GREGORIAN
BEGIN:VEVENT
SUMMARY:Soirée Echanges et Réseaux : Changement climatique : les ingénieurs peuvent-ils sauver le monde ?
DTSTART:20191125T190000
DTEND:20191125T220000
UID:245
DTSTAMP:20260425T205812
LOCATION:Café Gauchet, 1 rue Marcel Paul à Nantes
DESCRIPTION:Bonjour,\ndans le cadre de nos échanges inter-réseaux d'Alumnis, Stéphane AUBET, de Centrale-Supelec Alumni nous invite à la soirée d'échanges ci-dessous.\nAttention : vous pouvez vous inscrire sur Together pour signaler votre présence à vos amis Audenciens, mais l'inscription officielle se fait sur le site de Centrale-Supelec ci-dessous.\n\n\nChangement climatique : Les ingénieurs peuvent-ils sauver le monde ?\nLundi 25 novembre 2019 à 19h (accueil à partir de 18h30)\nau Café Gauchet, 1 rue Marcel Paul à Nantes\nFabien MICHEL, "tech-enthousiaste", diplômé de l’école Centrale Paris et  ingénieur-conseil dans l'innovation pour l'énergie, l'industrie et le numérique\n\n\n	Rappellera les enjeux de ces changements et présentera les vraies ruptures qu’ils nécessitent\n	Nous aidera à explorer dans quelle mesure la réponse peut être technologique ou autre\n	Nous proposera un aperçu du monde « Cleantech » avec notamment\n	\n		la baisse des coûts spectaculaires des énergies renouvelables\n		les nouveaux horizons des carburants.\n	\n	\n\n \nDéroulement de la soirée\n\n\n	18h30 : Accueil des participants\n	19h00 : Présentation & Débat\n	20h00 - 22h00 : Échanges et Réseaux autour d’un apéritif dînatoire\n\n \nInformations pratiques\nLe Café Gauchet (1 rue Marcel Paul à Nantes)\nAccès facile par la TAN, entre les arrêt Tilissi et Picasso (Chronobus 3 ou 5) sinon arrêt Gare Sud (tram 1 et Chronobus 2) au besoin pour les irréductibles du moteur thermique parking gare proche..\n \nAfin de faciliter l'organisation de l'évènement, nous vous remercions de bien vouloir vous inscrire au plus tard le Jeudi 21 Novembre  en utilisant le lien suivant :\nhttps://www.asso-supelec.org/shortUrl/xiJ\n \nUne participation aux frais du verre d'accueil et à la restauration de 18€ sera demandée à chacun à la réservation de l'évènement.\nSuite à vos retours après la soirée précédente, et en cohérence avec le sujet, la part végétale du buffet sera augmentée.\n \nAu plaisir de vous y retrouver !\nOlivier, Claire, Grégoire, Stéphane, Mickaël et Stéphanie\n 
BEGIN:VALARM
ACTION:DISPLAY
TRIGGER:-PT60M
DESCRIPTION:Soirée Echanges et Réseaux : Changement climatique : les ingénieurs peuvent-ils sauver le monde ?
END:VALARM
END:VEVENT
END:VCALENDAR