BEGIN:VCALENDAR
VERSION:2.0
X-WR-TIMEZONE:Europe/Paris
PRODID:-//Audencia//NONSGML v1.0//EN
CALSCALE:GREGORIAN
BEGIN:VEVENT
SUMMARY:Afterwork Inter-Alumni
DTSTART:20191107T190000
DTEND:20191107T223000
UID:244
DTSTAMP:20260425T205843
LOCATION:Maison Paganeli 7 rue Saint Léonard, 44000 Nantes
DESCRIPTION:Bonjour,\nDans le cadre de nos échanges de réseaux entre Alumnis, Gaëlle DAVID, d'HEC Alumini nous invite à un Afterwork.\nATTENTION : Vous pouvez signaler votre présence à vos amis Audencia en vous inscrivant sur Together, mais l'inscriptions en bonne et due forme doit se faire via le lien HEC ci-dessous.\n \n\n\nThème : Découvert des saveurs de l'Ile de Beauté\n\nTarif : consommation à régler sur place\n\nNombre de participants : 40 maxi \n\nOuvert aux accompagnants : oui\n\nLien d'inscription : https://www.hecalumni.fr/group/pays-de-la-loire/71/calendar\n\nAutres précisions : 06 77 47 52 80\n
BEGIN:VALARM
ACTION:DISPLAY
TRIGGER:-PT60M
DESCRIPTION:Afterwork Inter-Alumni
END:VALARM
END:VEVENT
END:VCALENDAR