BEGIN:VCALENDAR
VERSION:2.0
X-WR-TIMEZONE:Europe/Paris
PRODID:-//Audencia//NONSGML v1.0//EN
CALSCALE:GREGORIAN
BEGIN:VEVENT
SUMMARY:Audencia Alumni Dublin Afterwork
DTSTART:20191106T180000
DTEND:20191106T220000
UID:243
DTSTAMP:20260425T223840
LOCATION:Dublin
DESCRIPTION:Hello everyone, \n\nIt's been a while since we all got together last, sorry about that ! \n\nI am happy to announce the Audencia Alumni Dublin Afterwork are back, and our next gathering will be on November 6th - for the venue, depending on the number of participants, I will have to adapt. It will also be a great occasion to discuss the next Learning Expedition by Audencia students, which will happen during the last week of January. If you'd like your company to be one of the hosts, let me know !\n\nCould you please mark your attendance as soon as possible, so I can make the proper arrangements ? \n\n>> For any questions, please contact me on brice.dufour.1987@gmail.com <<\n\nSee you then and have a great time until then,\nBrice
BEGIN:VALARM
ACTION:DISPLAY
TRIGGER:-PT60M
DESCRIPTION:Audencia Alumni Dublin Afterwork
END:VALARM
END:VEVENT
END:VCALENDAR