BEGIN:VCALENDAR
VERSION:2.0
X-WR-TIMEZONE:Europe/Paris
PRODID:-//Audencia//NONSGML v1.0//EN
CALSCALE:GREGORIAN
BEGIN:VEVENT
SUMMARY:Fondue aux Bastions - Table réservée pour 15 personnes à 18h
DTSTART:20191205T180000
DTEND:20191205T230000
UID:242
DTSTAMP:20260425T210010
LOCATION:Parc des Bastions, Genève
DESCRIPTION:Venez partager une fondue au chalet à fondue aux Bastions le jeudi 5 décembre.\nMerci de vous inscrire d'ici le 31.10 pour que nous puissions réserver!\n\nhttps://www.noelauxbastions.ch/lechaletafondue
BEGIN:VALARM
ACTION:DISPLAY
TRIGGER:-PT60M
DESCRIPTION:Fondue aux Bastions - Table réservée pour 15 personnes à 18h
END:VALARM
END:VEVENT
END:VCALENDAR