BEGIN:VCALENDAR
VERSION:2.0
X-WR-TIMEZONE:Europe/Paris
PRODID:-//Audencia//NONSGML v1.0//EN
CALSCALE:GREGORIAN
BEGIN:VEVENT
SUMMARY:Audencia/EDHEC Alumni meeting
DTSTART:20191024T190000
DTEND:20191024T210000
UID:240
DTSTAMP:20260425T205847
LOCATION:Bar Ysbreeker  Weesperzijde 23, 1091 EC Amsterdam
DESCRIPTION:For those who are up for it, we propose you to join us to meet up with Edhec Alumni for a first conjoint gathering. This is the occasion to widen our circle and strengthen our network in NL!\n\nWHEN : October 24th from 19h to 21h\n\nWHERE: Bar Ysbreeker \nWeesperzijde 23, 1091 EC Amsterdam\n\nThose willing to join, please reach out to Xuan Khuat Duy (aka Jerome) so that we can adjust the reservation !
BEGIN:VALARM
ACTION:DISPLAY
TRIGGER:-PT60M
DESCRIPTION:Audencia/EDHEC Alumni meeting
END:VALARM
END:VEVENT
END:VCALENDAR