BEGIN:VCALENDAR
VERSION:2.0
X-WR-TIMEZONE:Europe/Paris
PRODID:-//Audencia//NONSGML v1.0//EN
CALSCALE:GREGORIAN
BEGIN:VEVENT
SUMMARY:Sydney Chapter Kick Off Event
DTSTART:20170608T183000
DTEND:20170608T220000
UID:24
DTSTAMP:20260425T205734
LOCATION:Sydney -- Circular Quay Wharf 4
DESCRIPTION:Welcome Everyone!\n\nCurrently planning our first event -- really exciting...\n\nThursday 8th, June: Vivid Light Walk at the Royal Botanical Gardens\n\nThank you very much and looking forward to meeting you all --\nMatt
BEGIN:VALARM
ACTION:DISPLAY
TRIGGER:-PT60M
DESCRIPTION:Sydney Chapter Kick Off Event
END:VALARM
END:VEVENT
END:VCALENDAR