BEGIN:VCALENDAR
VERSION:2.0
X-WR-TIMEZONE:Europe/Paris
PRODID:-//Audencia//NONSGML v1.0//EN
CALSCALE:GREGORIAN
BEGIN:VEVENT
SUMMARY:Visite de la distillerie Van Kleef
DTSTART:20191031T173000
DTEND:20191031T190000
UID:239
DTSTAMP:20260425T223737
LOCATION:Distilleerderij Van Kleef Lange Beestenmarkt 109, Den Haag
DESCRIPTION:Come visit the last remaining genever and licqueur distillery in the Hague\nEvent organized in coordination with Neoma and Audencia Alumni\nPlease contact Pierre de la Touche to sign up!:\npaysbas@neoma-alumni.com\n+33 6 61 74 70 06
BEGIN:VALARM
ACTION:DISPLAY
TRIGGER:-PT60M
DESCRIPTION:Visite de la distillerie Van Kleef
END:VALARM
END:VEVENT
END:VCALENDAR