BEGIN:VCALENDAR
VERSION:2.0
X-WR-TIMEZONE:Europe/Paris
PRODID:-//Audencia//NONSGML v1.0//EN
CALSCALE:GREGORIAN
BEGIN:VEVENT
SUMMARY:Afterwork - Audencia 2015 - 4 years later
DTSTART:20191008T193000
DTEND:20191008T230000
UID:238
DTSTAMP:20260425T205909
LOCATION:Le K1ZE
DESCRIPTION:Chers camarades de promo,\nCela fait maintenant 4 ans que nous sommes diplômés. Il est donc temps de se retrouver autour d'une table, d'un verre histoire de faire un catch-up pour certains, d'évoquer de bons souvenirs d'autres et principalement pour passer une bonne soirée ensemble.\nStay tuned pour le point de ralliement ;)\nA très vite!
BEGIN:VALARM
ACTION:DISPLAY
TRIGGER:-PT60M
DESCRIPTION:Afterwork - Audencia 2015 - 4 years later
END:VALARM
END:VEVENT
END:VCALENDAR