BEGIN:VCALENDAR
VERSION:2.0
X-WR-TIMEZONE:Europe/Paris
PRODID:-//Audencia//NONSGML v1.0//EN
CALSCALE:GREGORIAN
BEGIN:VEVENT
SUMMARY:Afterwork à l'Hôtel des Quinconces
DTSTART:20191107T193000
DTEND:20191107T230000
UID:237
DTSTAMP:20260425T205723
LOCATION:22 Cours du Maréchal Foch
DESCRIPTION:Bonjour à tous, \n\nNous proposons à tous les bordelais un apéro Afterwork à l'Hôtel des Quinconces (22 Cours du Maréchal Foch) le 7 novembre à partir de 19h30 !\n\nPrix : 20€\n\n	2 verres de vin (rouge ou blanc)\n	Petits assortiments de bouchées salées comme accompagnement\n\nPouvez vous vous inscrire pour pouvoir communiquer le nombre de participants à l'hôtel ?\n\nEn espérant vous voir nombreux !\nA bientôt,\n\nElise\n06 30 63 50 27\n 
BEGIN:VALARM
ACTION:DISPLAY
TRIGGER:-PT60M
DESCRIPTION:Afterwork à l'Hôtel des Quinconces
END:VALARM
END:VEVENT
END:VCALENDAR