BEGIN:VCALENDAR
VERSION:2.0
X-WR-TIMEZONE:Europe/Paris
PRODID:-//Audencia//NONSGML v1.0//EN
CALSCALE:GREGORIAN
BEGIN:VEVENT
SUMMARY:Afterwork autour de la bande dessinée & Dîner par NEOMA Alumni. Un événement ouvert aux autres grandes écoles !
DTSTART:20191017T190000
DTEND:20191017T223000
UID:236
DTSTAMP:20260425T205731
LOCATION:Librairie Krazy Kat, 10 Rue de la Merci, 33000 Bordeaux
DESCRIPTION:Programme\nNEOMA ALUMNI vous propose une soirée originale, relax et networking entre Alumni Grandes Ecoles dans deux établissements de diplômés NEOMA ALUMNI :\n\n19h00 - 21h00 : AFTERWORK AUTOUR DE LA BANDE DESSINEE\nRendez-vous à la librairie KRAZY KAT, chez l'un de nos diplômés.\nDécouverte du marché de la BD mais surtout de l'histoire de ce lieu tenu aujourd'hui par l'un de nos diplômés.\nEn quelques mots, des échanges autour d'un verre, dans une librairie qui fait également bar !\n\n21h00 : DINER\nA 21h00, direction le restaurant ZAPARD, tenu par le compagnon d'une ancienne diplômée, pour poursuivre la soirée autour d'un repas assis.\nMenu plat, dessert, boisson\n\nUNE SOIREE INTER GRANDES ECOLES\nCet événement est ouvert aux autres réseaux de diplômés.\nDepuis 2016, les réseaux des grandes écoles se réunissent annuellement en mars pour une grande soirée. Depuis le printemps 2019, nous vous proposons des Aferworks inter grandes écoles tout au long de l'année ! Un super moment pour échanger et réseauter entre Alumni !\n\n\nInscrivez-vous sans attendre !\n \nAdresse\n19h00 - 21h00 : Librairie Krazy Kat, 10 Rue de la Merci, 33000 Bordeaux\nA 21h00 : Restaurant ZAPARD, 45 Rue du Loup, 33000 Bordeaux\n \nInscriptions\nLes inscriptions se font directement en ligne.https://www.neoma-alumni.com/event/afterwork-bd-diner-inter-grandes-ecoles-a-bordeaux/2019/10/17/13504 \nTarifs : Afterwork & Dîner :\n► 5.00 € : NEOMA ALUMNI - Adhérent\n► 10.00 € : NEOMA ALUMNI - Non adhérent\n► 20.00 € : NEOMA ALUMNI - +one\n► 30.00 € : EXTERNE / AUTRES RESEAUX\n 
BEGIN:VALARM
ACTION:DISPLAY
TRIGGER:-PT60M
DESCRIPTION:Afterwork autour de la bande dessinée & Dîner par NEOMA Alumni. Un événement ouvert aux autres grandes écoles !
END:VALARM
END:VEVENT
END:VCALENDAR