BEGIN:VCALENDAR
VERSION:2.0
X-WR-TIMEZONE:Europe/Paris
PRODID:-//Audencia//NONSGML v1.0//EN
CALSCALE:GREGORIAN
BEGIN:VEVENT
SUMMARY:Escape Game: Jeudi 16 Janvier
DTSTART:20200116T181500
DTEND:20200116T230000
UID:235
DTSTAMP:20260425T205856
LOCATION:Trip Trap Escape Chemin de la Gravière 6 1227 Les Acacias
DESCRIPTION:Nous vous proposons de se retrouver le Jeudi 16 Janvier à 18h15 pour un Escape Game!\nMerci de vous inscrire si vous étes intéressé.\n\n\n 
BEGIN:VALARM
ACTION:DISPLAY
TRIGGER:-PT60M
DESCRIPTION:Escape Game: Jeudi 16 Janvier
END:VALARM
END:VEVENT
END:VCALENDAR